BEGIN:VCALENDAR
VERSION:2.0
CALSCALE:GREGORIAN
PRODID:-//Diputació de Barcelona//DibaCMS//EN
BEGIN:VEVENT
UID:3975
DTSTAMP:20260422T081006
DTSTART:20190113T120000
DTEND:20190113T130000
SUMMARY:Entrega de premis al concurs infantil de pessebres
LOCATION:
METHOD:PUBLISH
X-WR-CALNAME:capellades@capellades.cat
X-WR-TIMEZONE:Europe/Madrid
DESCRIPTION:Després de la missa de migdia del diumenge 13 de gener es farà l'entrega de premis als guanyadors del concurs infantil de pessebres.

URI:https://www.capellades.cat/actualitat/agenda/entrega-de-premis-al-concurs-infantil-de-pessebres.html
CLASS:PUBLIC
END:VEVENT
END:VCALENDAR
