BEGIN:VCALENDAR
VERSION:2.0
CALSCALE:GREGORIAN
PRODID:-//Diputació de Barcelona//DibaCMS//EN
BEGIN:VEVENT
UID:3974
DTSTAMP:20260422T110322
DTSTART:20190112T123000
DTEND:20190112T130000
SUMMARY:Sorteig Capellades Comerç
LOCATION:
METHOD:PUBLISH
X-WR-CALNAME:capellades@capellades.cat
X-WR-TIMEZONE:Europe/Madrid
DESCRIPTION:Capellades Comerç farà el seu sorteig el dia 12 de gener a dos quarts d'una del migdia, davant el Racó de Sant Jordi.

URI:https://www.capellades.cat/actualitat/agenda/sorteig-capellades-comerc.html
CLASS:PUBLIC
END:VEVENT
END:VCALENDAR
