BEGIN:VCALENDAR
VERSION:2.0
CALSCALE:GREGORIAN
PRODID:-//Diputació de Barcelona//DibaCMS//EN
BEGIN:VEVENT
UID:3973
DTSTAMP:20260422T150824
DTSTART:20190105T190000
DTEND:20190105T230000
SUMMARY:Cavalcada de Reis a Capellades
LOCATION:
METHOD:PUBLISH
X-WR-CALNAME:capellades@capellades.cat
X-WR-TIMEZONE:Europe/Madrid
DESCRIPTION:El dia 5 a les 7 de la tarda arribaran a Capellades els Reis de l'Orient acompanyats de tot el seu seguici.

URI:https://www.capellades.cat/actualitat/agenda/cavalcada-de-reis-a-capellades.html
CLASS:PUBLIC
END:VEVENT
END:VCALENDAR
