BEGIN:VCALENDAR
VERSION:2.0
CALSCALE:GREGORIAN
PRODID:-//Diputació de Barcelona//DibaCMS//EN
BEGIN:VEVENT
UID:3972
DTSTAMP:20260422T035654
DTSTART:20190104T190000
DTEND:20190104T203000
SUMMARY:Concert de Reis de la Coral Xeremell
LOCATION:
METHOD:PUBLISH
X-WR-CALNAME:capellades@capellades.cat
X-WR-TIMEZONE:Europe/Madrid
DESCRIPTION:La Coral Xeremell farà el seu concert el dia 4 de gener, divendres, a les 7 de la tarda al Teatre de La Lliga.

URI:https://www.capellades.cat/actualitat/agenda/3972-concert-de-reis-de-la-coral-xeremell.html
CLASS:PUBLIC
END:VEVENT
END:VCALENDAR
