BEGIN:VCALENDAR
VERSION:2.0
CALSCALE:GREGORIAN
PRODID:-//Diputació de Barcelona//DibaCMS//EN
BEGIN:VEVENT
UID:3971
DTSTAMP:20260422T095352
DTSTART:20190101T180000
DTEND:20190101T200000
SUMMARY:Arribada del Patge Kamalú i recollida de cartes
LOCATION:
METHOD:PUBLISH
X-WR-CALNAME:capellades@capellades.cat
X-WR-TIMEZONE:Europe/Madrid
DESCRIPTION:El Patge Kamalú, emissari reial de Ses Magestats els Reis de l'Orient, arribarà a Capellades el dia 1 de gener a les 6 de la tarda.

URI:https://www.capellades.cat/actualitat/agenda/arribada-del-patge-kamalu-i-recollida-de-cartes.html
CLASS:PUBLIC
END:VEVENT
END:VCALENDAR
