BEGIN:VCALENDAR
VERSION:2.0
CALSCALE:GREGORIAN
PRODID:-//Diputació de Barcelona//DibaCMS//EN
BEGIN:VEVENT
UID:3970
DTSTAMP:20260422T123958
DTSTART:20181231T235900
DTEND:20190101T000200
SUMMARY:Campanades de Cap d'Any i crema del Ninot
LOCATION:
METHOD:PUBLISH
X-WR-CALNAME:capellades@capellades.cat
X-WR-TIMEZONE:Europe/Madrid
DESCRIPTION:L'Associació d'Equatorians a Capellades proposa un any més celebrar l'entrada de l'any visquent les campanades a la plaça Verdaguer.

URI:https://www.capellades.cat/actualitat/agenda/3970-campanades-de-cap-dany-i-crema-del-ninot.html
CLASS:PUBLIC
END:VEVENT
END:VCALENDAR
