BEGIN:VCALENDAR
VERSION:2.0
CALSCALE:GREGORIAN
PRODID:-//Diputació de Barcelona//DibaCMS//EN
BEGIN:VEVENT
UID:3968
DTSTAMP:20260422T110129
DTSTART:20181229T193000
DTEND:20181229T203000
SUMMARY:Trobada poètica amb lectura i comentari de poemes de Nadal
LOCATION:
METHOD:PUBLISH
X-WR-CALNAME:capellades@capellades.cat
X-WR-TIMEZONE:Europe/Madrid
DESCRIPTION:La trobada poètica d'aquest mes de desembre es farà el dia 29, a dos quarts de 8 del vespre al Saló Rosa de La Lliga de Capellades.

URI:https://www.capellades.cat/actualitat/agenda/trobada-poetica-amb-lectura-i-comentari-de-poemes-de-nadal.html
CLASS:PUBLIC
END:VEVENT
END:VCALENDAR
