BEGIN:VCALENDAR
VERSION:2.0
CALSCALE:GREGORIAN
PRODID:-//Diputació de Barcelona//DibaCMS//EN
BEGIN:VEVENT
UID:3967
DTSTAMP:20260422T092800
DTSTART:20181229T163000
DTEND:20181229T173000
SUMMARY:Actuació del Coro a la Residència
LOCATION:
METHOD:PUBLISH
X-WR-CALNAME:capellades@capellades.cat
X-WR-TIMEZONE:Europe/Madrid
DESCRIPTION:El Coro de Capellades i el Grup Playback d'UCC Estremeño també volen acompanyar els avis i àvies de la Residència de Capellades.

URI:https://www.capellades.cat/actualitat/agenda/actuacio-del-coro-a-la-residencia.html
CLASS:PUBLIC
END:VEVENT
END:VCALENDAR
