BEGIN:VCALENDAR
VERSION:2.0
CALSCALE:GREGORIAN
PRODID:-//Diputació de Barcelona//DibaCMS//EN
BEGIN:VEVENT
UID:3966
DTSTAMP:20260422T133759
DTSTART:20181228T160000
DTEND:20190104T200000
SUMMARY:Comença el Saló de la Infància
LOCATION:
METHOD:PUBLISH
X-WR-CALNAME:capellades@capellades.cat
X-WR-TIMEZONE:Europe/Madrid
DESCRIPTION:Nova edició del Saló de la Infància, dedicat a l'espai.

URI:https://www.capellades.cat/actualitat/agenda/comenca-el-salo-de-la-infancia.html
CLASS:PUBLIC
END:VEVENT
END:VCALENDAR
