BEGIN:VCALENDAR
VERSION:2.0
CALSCALE:GREGORIAN
PRODID:-//Diputació de Barcelona//DibaCMS//EN
BEGIN:VEVENT
UID:3964
DTSTAMP:20260422T092957
DTSTART:20181225T120000
DTEND:20181225T123000
SUMMARY:Travessa a la Bassa
LOCATION:
METHOD:PUBLISH
X-WR-CALNAME:capellades@capellades.cat
X-WR-TIMEZONE:Europe/Madrid
DESCRIPTION:Aquest any es podrà fer una nova edició de la Travessa a la Bassa, cursa tradicional que arribarà a la seva 31ena. edició.

URI:https://www.capellades.cat/actualitat/agenda/travessa-a-la-bassa.html
CLASS:PUBLIC
END:VEVENT
END:VCALENDAR
