BEGIN:VCALENDAR
VERSION:2.0
CALSCALE:GREGORIAN
PRODID:-//Diputació de Barcelona//DibaCMS//EN
BEGIN:VEVENT
UID:3963
DTSTAMP:20260422T080105
DTSTART:20181225T101500
DTEND:20181225T103000
SUMMARY:Cursa del Gall Dindi
LOCATION:
METHOD:PUBLISH
X-WR-CALNAME:capellades@capellades.cat
X-WR-TIMEZONE:Europe/Madrid
DESCRIPTION:El dia de Nadal a Capellades és tradició fer la Cursa del Gall Dindi. Enguany es celebra ja la 39ena. edicio, 29è. Memorial Jaume Solé Quintana.

URI:https://www.capellades.cat/actualitat/agenda/3963-cursa-del-gall-dindi.html
CLASS:PUBLIC
END:VEVENT
END:VCALENDAR
