BEGIN:VCALENDAR
VERSION:2.0
CALSCALE:GREGORIAN
PRODID:-//Diputació de Barcelona//DibaCMS//EN
BEGIN:VEVENT
UID:3962
DTSTAMP:20260422T111123
DTSTART:20181225T110000
DTEND:20181225T130000
SUMMARY:Cantada de nadales de la Coral Xeremell
LOCATION:
METHOD:PUBLISH
X-WR-CALNAME:capellades@capellades.cat
X-WR-TIMEZONE:Europe/Madrid
DESCRIPTION:El dia de Nadal la Coral Xeremell fa diverses cantades.

URI:https://www.capellades.cat/actualitat/agenda/3962-cantada-de-nadales-de-la-coral-xeremell.html
CLASS:PUBLIC
END:VEVENT
END:VCALENDAR
