BEGIN:VCALENDAR
VERSION:2.0
CALSCALE:GREGORIAN
PRODID:-//Diputació de Barcelona//DibaCMS//EN
BEGIN:VEVENT
UID:3961
DTSTAMP:20260422T110009
DTSTART:20181224T235100
DTEND:20181225T003000
SUMMARY:Inauguració de l'exposició de Pessebres
LOCATION:
METHOD:PUBLISH
X-WR-CALNAME:capellades@capellades.cat
X-WR-TIMEZONE:Europe/Madrid
DESCRIPTION:Després de la Missa del Gall s'inaugura l'exposició de pessebres a l'església de Santa Maria.

URI:https://www.capellades.cat/actualitat/agenda/inauguracio-de-lexposicio-de-pessebres.html
CLASS:PUBLIC
END:VEVENT
END:VCALENDAR
