BEGIN:VCALENDAR
VERSION:2.0
CALSCALE:GREGORIAN
PRODID:-//Diputació de Barcelona//DibaCMS//EN
BEGIN:VEVENT
UID:3958
DTSTAMP:20260422T082548
DTSTART:20181224T100000
DTEND:20181224T120000
SUMMARY:Dissenya la teva felicitació animada
LOCATION:
METHOD:PUBLISH
X-WR-CALNAME:capellades@capellades.cat
X-WR-TIMEZONE:Europe/Madrid
DESCRIPTION:Abans d'acabar el mes de desembre la Biblioteca El Safareig proposa un nou taller.

URI:https://www.capellades.cat/actualitat/agenda/dissenya-la-teva-felicitacio-animada.html
CLASS:PUBLIC
END:VEVENT
END:VCALENDAR
