BEGIN:VCALENDAR
VERSION:2.0
CALSCALE:GREGORIAN
PRODID:-//Diputació de Barcelona//DibaCMS//EN
BEGIN:VEVENT
UID:3957
DTSTAMP:20260422T105310
DTSTART:20181223T180000
DTEND:20181223T200000
SUMMARY:Pessebre vivent als Jardins de Casa Bas
LOCATION:
METHOD:PUBLISH
X-WR-CALNAME:capellades@capellades.cat
X-WR-TIMEZONE:Europe/Madrid
DESCRIPTION:Aquest any el Grup Teatral de Capellades farà el Pessebre Vivent als Jardins de Casa Bas.

URI:https://www.capellades.cat/actualitat/agenda/pessebre-vivent-als-jardins-de-casa-bas.html
CLASS:PUBLIC
END:VEVENT
END:VCALENDAR
