BEGIN:VCALENDAR
VERSION:2.0
CALSCALE:GREGORIAN
PRODID:-//Diputació de Barcelona//DibaCMS//EN
BEGIN:VEVENT
UID:3956
DTSTAMP:20260422T065653
DTSTART:20181223T123000
DTEND:20181223T140000
SUMMARY:Concert de Nadal de la Big Band
LOCATION:
METHOD:PUBLISH
X-WR-CALNAME:capellades@capellades.cat
X-WR-TIMEZONE:Europe/Madrid
DESCRIPTION:La Banda i la Big band de l'Escola de Música de Capellades proposen el seu concert de Nadal.

URI:https://www.capellades.cat/actualitat/agenda/concert-de-nadal-de-la-big-band.html
CLASS:PUBLIC
END:VEVENT
END:VCALENDAR
