BEGIN:VCALENDAR
VERSION:2.0
CALSCALE:GREGORIAN
PRODID:-//Diputació de Barcelona//DibaCMS//EN
BEGIN:VEVENT
UID:3955
DTSTAMP:20260422T070025
DTSTART:20181222T180000
DTEND:20181222T190000
SUMMARY:Concert de Nadal amb l'orgue
LOCATION:
METHOD:PUBLISH
X-WR-CALNAME:capellades@capellades.cat
X-WR-TIMEZONE:Europe/Madrid
DESCRIPTION:Nou concert d'orgue a l'església de Santa Maria de Capellades, per al dissabte 22 de desembre a les 6 de la tarda.

URI:https://www.capellades.cat/actualitat/agenda/concert-de-nadal-amb-lorgue.html
CLASS:PUBLIC
END:VEVENT
END:VCALENDAR
