BEGIN:VCALENDAR
VERSION:2.0
CALSCALE:GREGORIAN
PRODID:-//Diputació de Barcelona//DibaCMS//EN
BEGIN:VEVENT
UID:3954
DTSTAMP:20260422T094526
DTSTART:20181213T000000
DTEND:20181213T000000
SUMMARY:L'Esbart Dansot balla a la Residència
LOCATION:
METHOD:PUBLISH
X-WR-CALNAME:capellades@capellades.cat
X-WR-TIMEZONE:Europe/Madrid
DESCRIPTION:Un any més els balladors i balladores de l'Esbart Dansot volen desitjar bones festes als avis i àvies de la Residència de Capellades.

URI:https://www.capellades.cat/actualitat/agenda/3954-lesbart-dansot-balla-a-la-residencia.html
CLASS:PUBLIC
END:VEVENT
END:VCALENDAR
