BEGIN:VCALENDAR
VERSION:2.0
CALSCALE:GREGORIAN
PRODID:-//Diputació de Barcelona//DibaCMS//EN
BEGIN:VEVENT
UID:3953
DTSTAMP:20260422T053041
DTSTART:20181222T170000
DTEND:20181222T180000
SUMMARY:L'Esbart Dansot balla a la Residència
LOCATION:
METHOD:PUBLISH
X-WR-CALNAME:capellades@capellades.cat
X-WR-TIMEZONE:Europe/Madrid
DESCRIPTION:
URI:https://www.capellades.cat/actualitat/agenda/lesbart-dansot-balla-a-la-residencia.html
CLASS:PUBLIC
END:VEVENT
END:VCALENDAR
