BEGIN:VCALENDAR
VERSION:2.0
CALSCALE:GREGORIAN
PRODID:-//Diputació de Barcelona//DibaCMS//EN
BEGIN:VEVENT
UID:3950
DTSTAMP:20260422T121123
DTSTART:20181221T163000
DTEND:20181221T173000
SUMMARY:Actuació de Boliwood
LOCATION:
METHOD:PUBLISH
X-WR-CALNAME:capellades@capellades.cat
X-WR-TIMEZONE:Europe/Madrid
DESCRIPTION:Dins la programació especial d'actes de les festes nadalenques actuació de Boliwood.

URI:https://www.capellades.cat/actualitat/agenda/actuacio-de-boliwood.html
CLASS:PUBLIC
END:VEVENT
END:VCALENDAR
