BEGIN:VCALENDAR
VERSION:2.0
CALSCALE:GREGORIAN
PRODID:-//Diputació de Barcelona//DibaCMS//EN
BEGIN:VEVENT
UID:3948
DTSTAMP:20260422T103830
DTSTART:20181220T161500
DTEND:20181220T163000
SUMMARY:Felicitem el Nadal cantant
LOCATION:
METHOD:PUBLISH
X-WR-CALNAME:capellades@capellades.cat
X-WR-TIMEZONE:Europe/Madrid
DESCRIPTION:Els nens i nenes de P3 a 6è. de primària de l'escola Marquès de la Pobla de Capellades faran una cantada de nadales.

URI:https://www.capellades.cat/actualitat/agenda/felicitem-el-nadal-cantant.html
CLASS:PUBLIC
END:VEVENT
END:VCALENDAR
