BEGIN:VCALENDAR
VERSION:2.0
CALSCALE:GREGORIAN
PRODID:-//Diputació de Barcelona//DibaCMS//EN
BEGIN:VEVENT
UID:3947
DTSTAMP:20260422T121417
DTSTART:20181215T110000
DTEND:20181215T193000
SUMMARY:Vine a animar al Club de Futbol Sala
LOCATION:
METHOD:PUBLISH
X-WR-CALNAME:capellades@capellades.cat
X-WR-TIMEZONE:Europe/Madrid
DESCRIPTION:Aquest cap de setmana vine a animar els teus equips de Futbol Sala.

URI:https://www.capellades.cat/actualitat/agenda/3947-vine-a-animar-al-club-de-futbol-sala.html
CLASS:PUBLIC
END:VEVENT
END:VCALENDAR
