BEGIN:VCALENDAR
VERSION:2.0
CALSCALE:GREGORIAN
PRODID:-//Diputació de Barcelona//DibaCMS//EN
BEGIN:VEVENT
UID:3946
DTSTAMP:20260422T081128
DTSTART:20181220T093000
DTEND:20181220T110000
SUMMARY:Nova caminada del Mou-te
LOCATION:
METHOD:PUBLISH
X-WR-CALNAME:capellades@capellades.cat
X-WR-TIMEZONE:Europe/Madrid
DESCRIPTION:Aquest mes de desembre la Caminada del Mou-te s'avança una setmana, per no coincidir amb les celebracions nadalenques.

URI:https://www.capellades.cat/actualitat/agenda/3946-nova-caminada-del-mou-te.html
CLASS:PUBLIC
END:VEVENT
END:VCALENDAR
