BEGIN:VCALENDAR
VERSION:2.0
CALSCALE:GREGORIAN
PRODID:-//Diputació de Barcelona//DibaCMS//EN
BEGIN:VEVENT
UID:3945
DTSTAMP:20260422T070637
DTSTART:20181219T170000
DTEND:20181219T180000
SUMMARY:Actuació del Grup Girasol i Tuna a la Residència
LOCATION:
METHOD:PUBLISH
X-WR-CALNAME:capellades@capellades.cat
X-WR-TIMEZONE:Europe/Madrid
DESCRIPTION:Dins les activitats nadalenques de la Fundacio Consorts Guasch.

URI:https://www.capellades.cat/actualitat/agenda/actuacio-del-grup-girasol-i-tuna-a-la-residencia.html
CLASS:PUBLIC
END:VEVENT
END:VCALENDAR
