BEGIN:VCALENDAR
VERSION:2.0
CALSCALE:GREGORIAN
PRODID:-//Diputació de Barcelona//DibaCMS//EN
BEGIN:VEVENT
UID:3944
DTSTAMP:20260422T110040
DTSTART:20181212T000000
DTEND:20181221T000000
SUMMARY:Concurs infantil de Pessebres
LOCATION:
METHOD:PUBLISH
X-WR-CALNAME:capellades@capellades.cat
X-WR-TIMEZONE:Europe/Madrid
DESCRIPTION:Nova edició del Concurs infantil de pessebres.

URI:https://www.capellades.cat/actualitat/agenda/3944-concurs-infantil-de-pessebres.html
CLASS:PUBLIC
END:VEVENT
END:VCALENDAR
