BEGIN:VCALENDAR
VERSION:2.0
CALSCALE:GREGORIAN
PRODID:-//Diputació de Barcelona//DibaCMS//EN
BEGIN:VEVENT
UID:3933
DTSTAMP:20260422T095128
DTSTART:20181219T103000
DTEND:20181219T130000
SUMMARY:Nova visita de l'Oficina Mòbil d'Atenció al Consumidor
LOCATION:
METHOD:PUBLISH
X-WR-CALNAME:capellades@capellades.cat
X-WR-TIMEZONE:Europe/Madrid
DESCRIPTION:L'Oficina Mòbil d'Atenció al Consumidor farà nova parada a Capellades el dimecres 19 de desembre al matí, de 10:30 a 13 hores.

URI:https://www.capellades.cat/actualitat/agenda/3933-nova-visita-de-loficina-mobil-datencio-al-consumidor.html
CLASS:PUBLIC
END:VEVENT
END:VCALENDAR
