BEGIN:VCALENDAR
VERSION:2.0
CALSCALE:GREGORIAN
PRODID:-//Diputació de Barcelona//DibaCMS//EN
BEGIN:VEVENT
UID:3932
DTSTAMP:20260422T154445
DTSTART:20181218T190000
DTEND:20181218T203000
SUMMARY:Xerrada sobre salut i psicologia
LOCATION:
METHOD:PUBLISH
X-WR-CALNAME:capellades@capellades.cat
X-WR-TIMEZONE:Europe/Madrid
DESCRIPTION:El dimarts 18 de desembre hi haurà una xerrada a la sala d'actes de la Biblioteca El Safareig de Capellades.

URI:https://www.capellades.cat/actualitat/agenda/xerrada-sobre-salut-i-psicologia.html
CLASS:PUBLIC
END:VEVENT
END:VCALENDAR
