BEGIN:VCALENDAR
VERSION:2.0
CALSCALE:GREGORIAN
PRODID:-//Diputació de Barcelona//DibaCMS//EN
BEGIN:VEVENT
UID:3931
DTSTAMP:20260422T124153
DTSTART:20181218T170000
DTEND:20181218T183000
SUMMARY:Concert de la Coral Veus Amigues
LOCATION:
METHOD:PUBLISH
X-WR-CALNAME:capellades@capellades.cat
X-WR-TIMEZONE:Europe/Madrid
DESCRIPTION:Dins les activitats nadalenques previstes a la Residència de Capellades, el dimarts 18 de desembre actuarà la Coral Veus Amigues.

URI:https://www.capellades.cat/actualitat/agenda/3931-concert-de-la-coral-veus-amigues.html
CLASS:PUBLIC
END:VEVENT
END:VCALENDAR
