BEGIN:VCALENDAR
VERSION:2.0
CALSCALE:GREGORIAN
PRODID:-//Diputació de Barcelona//DibaCMS//EN
BEGIN:VEVENT
UID:3930
DTSTAMP:20260422T095449
DTSTART:20181217T170000
DTEND:20181217T190000
SUMMARY:Festa del Nadal dels avis i àvies del Casal
LOCATION:
METHOD:PUBLISH
X-WR-CALNAME:capellades@capellades.cat
X-WR-TIMEZONE:Europe/Madrid
DESCRIPTION:Els avis i àvies del Casal Cal Ponet de Capellades celebraran la festa de Nadal el dilluns 17 a partir de les 17 hores.

URI:https://www.capellades.cat/actualitat/agenda/festa-del-nadal-dels-avis-i-avies-del-casal.html
CLASS:PUBLIC
END:VEVENT
END:VCALENDAR
