BEGIN:VCALENDAR
VERSION:2.0
CALSCALE:GREGORIAN
PRODID:-//Diputació de Barcelona//DibaCMS//EN
BEGIN:VEVENT
UID:3929
DTSTAMP:20260422T124915
DTSTART:20181216T180000
DTEND:20181216T200000
SUMMARY:VII Festival de Nadal de l'escola Dance&Fun
LOCATION:
METHOD:PUBLISH
X-WR-CALNAME:capellades@capellades.cat
X-WR-TIMEZONE:Europe/Madrid
DESCRIPTION:El Pavelló Poliesportiu acollirà el VII Festival de Nadal de l'Escola Dance&Fun.

URI:https://www.capellades.cat/actualitat/agenda/vii-festival-de-nadal-de-lescola-danceandfun.html
CLASS:PUBLIC
END:VEVENT
END:VCALENDAR
