BEGIN:VCALENDAR
VERSION:2.0
CALSCALE:GREGORIAN
PRODID:-//Diputació de Barcelona//DibaCMS//EN
BEGIN:VEVENT
UID:3928
DTSTAMP:20260422T102419
DTSTART:20181216T090000
DTEND:20181216T140000
SUMMARY:Caminant per la comarca
LOCATION:
METHOD:PUBLISH
X-WR-CALNAME:capellades@capellades.cat
X-WR-TIMEZONE:Europe/Madrid
DESCRIPTION:Aquest diumenge es previst que es faci la sortida del mes de desembre del grup Caminant per la comarca.

URI:https://www.capellades.cat/actualitat/agenda/3928-caminant-per-la-comarca.html
CLASS:PUBLIC
END:VEVENT
END:VCALENDAR
