BEGIN:VCALENDAR
VERSION:2.0
CALSCALE:GREGORIAN
PRODID:-//Diputació de Barcelona//DibaCMS//EN
BEGIN:VEVENT
UID:3927
DTSTAMP:20260422T085701
DTSTART:20181216T110000
DTEND:20181216T130000
SUMMARY:Festa de Nadal a l'escola Vailets
LOCATION:
METHOD:PUBLISH
X-WR-CALNAME:capellades@capellades.cat
X-WR-TIMEZONE:Europe/Madrid
DESCRIPTION:La Llar d'Infants Vailets celebra aquest diumenge la seva festa de Nadal.

URI:https://www.capellades.cat/actualitat/agenda/festa-de-nadal-a-lescola-vailets.html
CLASS:PUBLIC
END:VEVENT
END:VCALENDAR
