BEGIN:VCALENDAR
VERSION:2.0
CALSCALE:GREGORIAN
PRODID:-//Diputació de Barcelona//DibaCMS//EN
BEGIN:VEVENT
UID:3926
DTSTAMP:20260422T065602
DTSTART:20181216T110000
DTEND:20181216T130000
SUMMARY:Matinal per La Marató de TV3
LOCATION:
METHOD:PUBLISH
X-WR-CALNAME:capellades@capellades.cat
X-WR-TIMEZONE:Europe/Madrid
DESCRIPTION:L'Esplai Aliret i Capellades Comerç proposen diferents activitats per recollir diners per La Marató de TV3.

URI:https://www.capellades.cat/actualitat/agenda/matinal-per-la-marato-de-tv3.html
CLASS:PUBLIC
END:VEVENT
END:VCALENDAR
