BEGIN:VCALENDAR
VERSION:2.0
CALSCALE:GREGORIAN
PRODID:-//Diputació de Barcelona//DibaCMS//EN
BEGIN:VEVENT
UID:3925
DTSTAMP:20260422T115045
DTSTART:20181215T173000
DTEND:20181215T180000
SUMMARY:Concert de Nadal escola Mare del Diví Pastor
LOCATION:
METHOD:PUBLISH
X-WR-CALNAME:capellades@capellades.cat
X-WR-TIMEZONE:Europe/Madrid
DESCRIPTION:L'escola Mare del Diví Pastor de Capellades celebra la Festa del Nadal amb els alumnes i les seves famílies aquest dissabte, 15 de desembre.

URI:https://www.capellades.cat/actualitat/agenda/concert-de-nadal-escola-mare-del-divi-pastor.html
CLASS:PUBLIC
END:VEVENT
END:VCALENDAR
