BEGIN:VCALENDAR
VERSION:2.0
CALSCALE:GREGORIAN
PRODID:-//Diputació de Barcelona//DibaCMS//EN
BEGIN:VEVENT
UID:3923
DTSTAMP:20260422T082954
DTSTART:20181215T170000
DTEND:20181215T200000
SUMMARY:VII Festival Solidario por 1 Kg
LOCATION:
METHOD:PUBLISH
X-WR-CALNAME:capellades@capellades.cat
X-WR-TIMEZONE:Europe/Madrid
DESCRIPTION:El Coro Romero Virgen de la Cabeza organitza un nou Festival Solidario, ja en la seva setena edició.

URI:https://www.capellades.cat/actualitat/agenda/3923-vii-festival-solidario-por-1-kg.html
CLASS:PUBLIC
END:VEVENT
END:VCALENDAR
