BEGIN:VCALENDAR
VERSION:2.0
CALSCALE:GREGORIAN
PRODID:-//Diputació de Barcelona//DibaCMS//EN
BEGIN:VEVENT
UID:3922
DTSTAMP:20260422T085732
DTSTART:20181213T180000
DTEND:20181213T200000
SUMMARY:Bingo a Cal Ponet
LOCATION:
METHOD:PUBLISH
X-WR-CALNAME:capellades@capellades.cat
X-WR-TIMEZONE:Europe/Madrid
DESCRIPTION:Nova edició del Bingo a Cal Ponet per a tots els avis i àvies.

URI:https://www.capellades.cat/actualitat/agenda/3922-bingo-a-cal-ponet.html
CLASS:PUBLIC
END:VEVENT
END:VCALENDAR
