BEGIN:VCALENDAR
VERSION:2.0
CALSCALE:GREGORIAN
PRODID:-//Diputació de Barcelona//DibaCMS//EN
BEGIN:VEVENT
UID:3921
DTSTAMP:20260422T144955
DTSTART:20181213T153000
DTEND:20181213T173000
SUMMARY:Nova visita del SIAD
LOCATION:
METHOD:PUBLISH
X-WR-CALNAME:capellades@capellades.cat
X-WR-TIMEZONE:Europe/Madrid
DESCRIPTION:El Servei d'Informació i Atenció a la Dona farà novament parada a Capellades el dia 13 de desembre.

URI:https://www.capellades.cat/actualitat/agenda/3921-nova-visita-del-siad.html
CLASS:PUBLIC
END:VEVENT
END:VCALENDAR
