BEGIN:VCALENDAR
VERSION:2.0
CALSCALE:GREGORIAN
PRODID:-//Diputació de Barcelona//DibaCMS//EN
BEGIN:VEVENT
UID:3920
DTSTAMP:20260422T124217
DTSTART:20181210T163000
DTEND:20181210T170000
SUMMARY:Música en viu
LOCATION:
METHOD:PUBLISH
X-WR-CALNAME:capellades@capellades.cat
X-WR-TIMEZONE:Europe/Madrid
DESCRIPTION:Durant aquestes festes nadalenques moltes persones, tant a títol individual com a través d'entitats, dediquen una visita als avis i àvies de la Residència de Capellades.

URI:https://www.capellades.cat/actualitat/agenda/musica-en-viu.html
CLASS:PUBLIC
END:VEVENT
END:VCALENDAR
