BEGIN:VCALENDAR
VERSION:2.0
CALSCALE:GREGORIAN
PRODID:-//Diputació de Barcelona//DibaCMS//EN
BEGIN:VEVENT
UID:3919
DTSTAMP:20260422T090621
DTSTART:20181209T103000
DTEND:20181209T130000
SUMMARY:Taller de textures de l'Agrupació Fotogràfica
LOCATION:
METHOD:PUBLISH
X-WR-CALNAME:capellades@capellades.cat
X-WR-TIMEZONE:Europe/Madrid
DESCRIPTION:L'Agrupació Fotogràfica proposa un curs de textures per a tothom qui li vulgui interessar.

URI:https://www.capellades.cat/actualitat/agenda/taller-de-textures-de-lagrupacio-fotografica.html
CLASS:PUBLIC
END:VEVENT
END:VCALENDAR
