BEGIN:VCALENDAR
VERSION:2.0
CALSCALE:GREGORIAN
PRODID:-//Diputació de Barcelona//DibaCMS//EN
BEGIN:VEVENT
UID:3918
DTSTAMP:20260422T131516
DTSTART:20181209T100000
DTEND:20181209T140000
SUMMARY:Mercat d'Antiguitats
LOCATION:
METHOD:PUBLISH
X-WR-CALNAME:capellades@capellades.cat
X-WR-TIMEZONE:Europe/Madrid
DESCRIPTION:El segon diumenge de cada mes es fa a la plaça Catalunya el Mercat d'Antiguitats.

URI:https://www.capellades.cat/actualitat/agenda/3918-mercat-dantiguitats.html
CLASS:PUBLIC
END:VEVENT
END:VCALENDAR
