BEGIN:VCALENDAR
VERSION:2.0
CALSCALE:GREGORIAN
PRODID:-//Diputació de Barcelona//DibaCMS//EN
BEGIN:VEVENT
UID:3908
DTSTAMP:20260422T132633
DTSTART:20181213T190000
DTEND:20181213T200000
SUMMARY:Club de Lectura
LOCATION:
METHOD:PUBLISH
X-WR-CALNAME:capellades@capellades.cat
X-WR-TIMEZONE:Europe/Madrid
DESCRIPTION:Nova trobada del Club de Lectura de la Biblioteca El Safareig de Capellades.

URI:https://www.capellades.cat/actualitat/agenda/3908-club-de-lectura.html
CLASS:PUBLIC
END:VEVENT
END:VCALENDAR
