BEGIN:VCALENDAR
VERSION:2.0
CALSCALE:GREGORIAN
PRODID:-//Diputació de Barcelona//DibaCMS//EN
BEGIN:VEVENT
UID:3907
DTSTAMP:20260422T135022
DTSTART:20181212T190000
DTEND:20181212T200000
SUMMARY:Presentació del llibre "Así lo siento"
LOCATION:
METHOD:PUBLISH
X-WR-CALNAME:capellades@capellades.cat
X-WR-TIMEZONE:Europe/Madrid
DESCRIPTION:El dimecres 12 de desembre, a les set de la tarda, es presentarà a la Biblioteca El Safareig el llibre "Así lo siento... Una forma de vivir", d'Antonio Alonso.

URI:https://www.capellades.cat/actualitat/agenda/presentacio-del-llibre-asi-lo-siento.html
CLASS:PUBLIC
END:VEVENT
END:VCALENDAR
