BEGIN:VCALENDAR
VERSION:2.0
CALSCALE:GREGORIAN
PRODID:-//Diputació de Barcelona//DibaCMS//EN
BEGIN:VEVENT
UID:3905
DTSTAMP:20260422T131843
DTSTART:20181211T180000
DTEND:20181211T190000
SUMMARY:Espectacle infantil a la Biblioteca
LOCATION:
METHOD:PUBLISH
X-WR-CALNAME:capellades@capellades.cat
X-WR-TIMEZONE:Europe/Madrid
DESCRIPTION:La Judit Farrés portarà el dia 11 de desembre el seu espectacle "Pomelo" a la Biblioteca El Safareig de Capellades.

URI:https://www.capellades.cat/actualitat/agenda/espectacle-infantil-a-la-biblioteca.html
CLASS:PUBLIC
END:VEVENT
END:VCALENDAR
