BEGIN:VCALENDAR
VERSION:2.0
CALSCALE:GREGORIAN
PRODID:-//Diputació de Barcelona//DibaCMS//EN
BEGIN:VEVENT
UID:3903
DTSTAMP:20260422T135943
DTSTART:20181204T180000
DTEND:20181204T190000
SUMMARY:Hora del Conte
LOCATION:
METHOD:PUBLISH
X-WR-CALNAME:capellades@capellades.cat
X-WR-TIMEZONE:Europe/Madrid
DESCRIPTION:Aquest dimarts 4 de desembre es farà a la Biblioteca El Safareig una nova Hora del Conte.

URI:https://www.capellades.cat/actualitat/agenda/3903-hora-del-conte.html
CLASS:PUBLIC
END:VEVENT
END:VCALENDAR
