BEGIN:VCALENDAR
VERSION:2.0
CALSCALE:GREGORIAN
PRODID:-//Diputació de Barcelona//DibaCMS//EN
BEGIN:VEVENT
UID:3902
DTSTAMP:20260422T131454
DTSTART:20181203T183000
DTEND:20181203T200000
SUMMARY:Xerrada cuina saludable
LOCATION:
METHOD:PUBLISH
X-WR-CALNAME:capellades@capellades.cat
X-WR-TIMEZONE:Europe/Madrid
DESCRIPTION:Avui comencen les activitats del mes de desembre a la Biblioteca El Safareig.

URI:https://www.capellades.cat/actualitat/agenda/xerrada-cuina-saludable.html
CLASS:PUBLIC
END:VEVENT
END:VCALENDAR
