BEGIN:VCALENDAR
VERSION:2.0
CALSCALE:GREGORIAN
PRODID:-//Diputació de Barcelona//DibaCMS//EN
BEGIN:VEVENT
UID:3899
DTSTAMP:20260422T114701
DTSTART:20181202T140000
DTEND:20181202T170000
SUMMARY:Festival Benèfic Agrupació Sevillanes
LOCATION:
METHOD:PUBLISH
X-WR-CALNAME:capellades@capellades.cat
X-WR-TIMEZONE:Europe/Madrid
DESCRIPTION:L'Associació Cultural de Sevillanes de Capellades organitza el Festival Benèfic 2018.

URI:https://www.capellades.cat/actualitat/agenda/festival-benefic-agrupacio-sevillanes.html
CLASS:PUBLIC
END:VEVENT
END:VCALENDAR
