BEGIN:VCALENDAR
VERSION:2.0
CALSCALE:GREGORIAN
PRODID:-//Diputació de Barcelona//DibaCMS//EN
BEGIN:VEVENT
UID:3898
DTSTAMP:20260422T133952
DTSTART:20181202T123000
DTEND:20181202T140000
SUMMARY:Concert vermut a La Lliga
LOCATION:
METHOD:PUBLISH
X-WR-CALNAME:capellades@capellades.cat
X-WR-TIMEZONE:Europe/Madrid
DESCRIPTION:Aquest diumenge La Lliga et proposa un concert vermut a dos quart d'una del migdia.

URI:https://www.capellades.cat/actualitat/agenda/3898-concert-vermut-a-la-lliga.html
CLASS:PUBLIC
END:VEVENT
END:VCALENDAR
