BEGIN:VCALENDAR
VERSION:2.0
CALSCALE:GREGORIAN
PRODID:-//Diputació de Barcelona//DibaCMS//EN
BEGIN:VEVENT
UID:3897
DTSTAMP:20260422T145958
DTSTART:20181202T110000
DTEND:20181202T130000
SUMMARY:Festa de Santa Bàrbara
LOCATION:
METHOD:PUBLISH
X-WR-CALNAME:capellades@capellades.cat
X-WR-TIMEZONE:Europe/Madrid
DESCRIPTION:El primer diumenge de desembre Capellades celebra la festa de Santa Bàrbara.

URI:https://www.capellades.cat/actualitat/agenda/3897-festa-de-santa-barbara.html
CLASS:PUBLIC
END:VEVENT
END:VCALENDAR
