BEGIN:VCALENDAR
VERSION:2.0
CALSCALE:GREGORIAN
PRODID:-//Diputació de Barcelona//DibaCMS//EN
BEGIN:VEVENT
UID:3896
DTSTAMP:20260422T063342
DTSTART:20181201T131500
DTEND:20181201T190000
SUMMARY:Vine a animar al Club de Futbol Sala
LOCATION:
METHOD:PUBLISH
X-WR-CALNAME:capellades@capellades.cat
X-WR-TIMEZONE:Europe/Madrid
DESCRIPTION:Vine a animar el teu equip aquest dissabte 1 de desembre al Pavelló Poliesportiu.

URI:https://www.capellades.cat/actualitat/agenda/vine-a-animar-al-club-de-futbol-sala.html
CLASS:PUBLIC
END:VEVENT
END:VCALENDAR
