BEGIN:VCALENDAR
VERSION:2.0
CALSCALE:GREGORIAN
PRODID:-//Diputació de Barcelona//DibaCMS//EN
BEGIN:VEVENT
UID:3895
DTSTAMP:20260422T122658
DTSTART:20181201T180000
DTEND:20181201T190000
SUMMARY:Concert d'orgue amb música de Nadal
LOCATION:
METHOD:PUBLISH
X-WR-CALNAME:capellades@capellades.cat
X-WR-TIMEZONE:Europe/Madrid
DESCRIPTION:Concert d'Orgue amb fons de Nadal.

URI:https://www.capellades.cat/actualitat/agenda/concert-dorgue-amb-musica-de-nadal.html
CLASS:PUBLIC
END:VEVENT
END:VCALENDAR
